Workbook

Sheet Instructions
B2: How to Use this Spreadsheet
A3: 1 | B3: Make a copy of the "Template" sheet. | C3: You can do this by right-clicking the template tab at the bottom of the page.
A4: 2 | B4: Rename the copy as your chosen employee's name. | C4: If you'd prefer to use an Employee Number or similar that's fine too.
A5: 3 | B5: Fill in the blue cells with their basic PTO details. | C5: Check out John Doe if you want an example.
A6: 4 | B6: Add in any PTO Bookings for the employee. | C6: If they haven't got any PTO booked, you can skip this step for now.
A7: 5 | B7: Type the new sheet's name on the PTO Summary sheet. | C7: Use column B under Your Employees, exactly as it appears on the tab.
A8: 6 | B8: Repeat steps 1-5 for each employee. | C8: You can view a summary of all employees PTO on the PTO Summary sheet.
A10: 7 | B10: Start a Free Trial of Bindle, our PTO Tracking App. | C10: Want to track PTO in your team's calendar and allow employees to view, request and manage PTO directly? Try Bindle free for 30 days.
B12: Get Bindle - https://www.bindle.io

Sheet PTO Summary (All Employees)
B1: Paid Time Off Summary
B2: This table contains a summary of your company's paid time off balances. You can even calculate your total leave liability.
B4: Example (not included in the totals)
B5: Employee (sheet name) | C5: Balance (Days) | D5: Balance (Hours) | E5: Annual Salary | F5: Leave Liability
B6: EXAMPLE (John Doe) | C6: =IF($B6="","",IFERROR(INDIRECT("'"&SUBSTITUTE($B6,"'","''")&"'!E15"),"Sheet not found")) -> 19.006849 | D6: =IF($B6="","",IFERROR(INDIRECT("'"&SUBSTITUTE($B6,"'","''")&"'!F15"),"")) -> 152.05479 | E6: 65000 | F6: =IF(OR($B6="",$E6=""),"",IFERROR($E6/(365*5/7)*$C6,"")) -> 4738.6939
B9: Your Company Settings
B10: Full Time Work Hours Per Day | C10: 8
B12: Your Employees
B13: For each employee, copy the Template sheet, rename it, then type its name in column B below, exactly as it appears on the tab.
B14: Employee (sheet name) | C14: Balance (Days) | D14: Balance (Hours) | E14: Annual Salary | F14: Leave Liability
C15: =IF($B15="","",IFERROR(INDIRECT("'"&SUBSTITUTE($B15,"'","''")&"'!E15"),"Sheet not found")) | D15: =IF($B15="","",IFERROR(INDIRECT("'"&SUBSTITUTE($B15,"'","''")&"'!F15"),"")) | F15: =IF(OR($B15="",$E15=""),"",IFERROR($E15/(365*5/7)*$C15,""))
C16: =IF($B16="","",IFERROR(INDIRECT("'"&SUBSTITUTE($B16,"'","''")&"'!E15"),"Sheet not found")) | D16: =IF($B16="","",IFERROR(INDIRECT("'"&SUBSTITUTE($B16,"'","''")&"'!F15"),"")) | F16: =IF(OR($B16="",$E16=""),"",IFERROR($E16/(365*5/7)*$C16,""))
C17: =IF($B17="","",IFERROR(INDIRECT("'"&SUBSTITUTE($B17,"'","''")&"'!E15"),"Sheet not found")) | D17: =IF($B17="","",IFERROR(INDIRECT("'"&SUBSTITUTE($B17,"'","''")&"'!F15"),"")) | F17: =IF(OR($B17="",$E17=""),"",IFERROR($E17/(365*5/7)*$C17,""))
C18: =IF($B18="","",IFERROR(INDIRECT("'"&SUBSTITUTE($B18,"'","''")&"'!E15"),"Sheet not found")) | D18: =IF($B18="","",IFERROR(INDIRECT("'"&SUBSTITUTE($B18,"'","''")&"'!F15"),"")) | F18: =IF(OR($B18="",$E18=""),"",IFERROR($E18/(365*5/7)*$C18,""))
C19: =IF($B19="","",IFERROR(INDIRECT("'"&SUBSTITUTE($B19,"'","''")&"'!E15"),"Sheet not found")) | D19: =IF($B19="","",IFERROR(INDIRECT("'"&SUBSTITUTE($B19,"'","''")&"'!F15"),"")) | F19: =IF(OR($B19="",$E19=""),"",IFERROR($E19/(365*5/7)*$C19,""))
C20: =IF($B20="","",IFERROR(INDIRECT("'"&SUBSTITUTE($B20,"'","''")&"'!E15"),"Sheet not found")) | D20: =IF($B20="","",IFERROR(INDIRECT("'"&SUBSTITUTE($B20,"'","''")&"'!F15"),"")) | F20: =IF(OR($B20="",$E20=""),"",IFERROR($E20/(365*5/7)*$C20,""))
C21: =IF($B21="","",IFERROR(INDIRECT("'"&SUBSTITUTE($B21,"'","''")&"'!E15"),"Sheet not found")) | D21: =IF($B21="","",IFERROR(INDIRECT("'"&SUBSTITUTE($B21,"'","''")&"'!F15"),"")) | F21: =IF(OR($B21="",$E21=""),"",IFERROR($E21/(365*5/7)*$C21,""))
C22: =IF($B22="","",IFERROR(INDIRECT("'"&SUBSTITUTE($B22,"'","''")&"'!E15"),"Sheet not found")) | D22: =IF($B22="","",IFERROR(INDIRECT("'"&SUBSTITUTE($B22,"'","''")&"'!F15"),"")) | F22: =IF(OR($B22="",$E22=""),"",IFERROR($E22/(365*5/7)*$C22,""))
C23: =IF($B23="","",IFERROR(INDIRECT("'"&SUBSTITUTE($B23,"'","''")&"'!E15"),"Sheet not found")) | D23: =IF($B23="","",IFERROR(INDIRECT("'"&SUBSTITUTE($B23,"'","''")&"'!F15"),"")) | F23: =IF(OR($B23="",$E23=""),"",IFERROR($E23/(365*5/7)*$C23,""))
C24: =IF($B24="","",IFERROR(INDIRECT("'"&SUBSTITUTE($B24,"'","''")&"'!E15"),"Sheet not found")) | D24: =IF($B24="","",IFERROR(INDIRECT("'"&SUBSTITUTE($B24,"'","''")&"'!F15"),"")) | F24: =IF(OR($B24="",$E24=""),"",IFERROR($E24/(365*5/7)*$C24,""))
C25: =IF($B25="","",IFERROR(INDIRECT("'"&SUBSTITUTE($B25,"'","''")&"'!E15"),"Sheet not found")) | D25: =IF($B25="","",IFERROR(INDIRECT("'"&SUBSTITUTE($B25,"'","''")&"'!F15"),"")) | F25: =IF(OR($B25="",$E25=""),"",IFERROR($E25/(365*5/7)*$C25,""))
C26: =IF($B26="","",IFERROR(INDIRECT("'"&SUBSTITUTE($B26,"'","''")&"'!E15"),"Sheet not found")) | D26: =IF($B26="","",IFERROR(INDIRECT("'"&SUBSTITUTE($B26,"'","''")&"'!F15"),"")) | F26: =IF(OR($B26="",$E26=""),"",IFERROR($E26/(365*5/7)*$C26,""))
... C44: =IF($B44="","",IFERROR(INDIRECT("'"&SUBSTITUTE($B44,"'","''")&"'!E15"),"Sheet not found")) | D44: =IF($B44="","",IFERROR(INDIRECT("'"&SUBSTITUTE($B44,"'","''")&"'!F15"),"")) | F44: =IF(OR($B44="",$E44=""),"",IFERROR($E44/(365*5/7)*$C44,""))
B45: Total Owing | C45: =SUM(C15:C44) -> 0 | D45: =SUM(D15:D44) -> 0 | F45: =SUM(F15:F44) -> 0
B47: Get Bindle - https://www.bindle.io

Sheet EXAMPLE (John Doe)
C2: From | D2: To | E2: Days | F2: Hours | G2: Notes
B3: PTO bookings | C3: =TODAY()-WEEKDAY(TODAY(),3)-56 -> 46230 | D3: =C3+1 -> 46231 | E3: 2 | F3: ='PTO Summary (All Employees)'!$C$10*E3 -> 16 | G3: Quick stay in Yosemite
C4: =TODAY()-WEEKDAY(TODAY(),3)-33 -> 46253 | D4: =C4 -> 46253 | E4: 0.5 | F4: ='PTO Summary (All Employees)'!$C$10*E4 -> 4 | G4: Morning off / Half day
C5: =TODAY()-WEEKDAY(TODAY(),3)-21 -> 46265 | D5: =C5+4 -> 46269 | E5: 5 | F5: ='PTO Summary (All Employees)'!$C$10*E5 -> 40 | G5: Week in Tahiti
B9: Start date | E9: =EOMONTH(TODAY(),-7)+1 -> 46082
B10: PTO allowance (days per year) | E10: 20 | F10: ='PTO Summary (All Employees)'!$C$10*E10 -> 160
B11: Balance on start date | E11: 15 | F11: ='PTO Summary (All Employees)'!$C$10*E11 -> 120
B12: Adjustments | E12: 0 | F12: ='PTO Summary (All Employees)'!$C$10*E12 -> 0
B13: PTO earned | E13: =IF(E9="",0,(E10/365)*(TODAY()-E9)) -> 11.506849 | F13: ='PTO Summary (All Employees)'!$C$10*E13 -> 92.054795
B14: PTO taken | E14: =SUM(E3:E8)*-1 -> -7.5 | F14: ='PTO Summary (All Employees)'!$C$10*E14 -> -60
B15: Balance remaining | E15: =SUM(E11:E14) -> 19.006849 | F15: ='PTO Summary (All Employees)'!$C$10*E15 -> 152.05479
B16: This is an example PTO sheet for an employee named John Doe. Note that only the blue shaded cells are entered data. Everything else is calculated for you.
B17: Get Bindle - https://www.bindle.io

Sheet Template
C2: From | D2: To | E2: Days | F2: Hours | G2: Notes
B3: PTO bookings
B9: Start date
B10: PTO allowance (days per year) | E10: 20 | F10: ='PTO Summary (All Employees)'!$C$10*E10 -> 160
B11: Balance on start date | E11: 0 | F11: ='PTO Summary (All Employees)'!$C$10*E11 -> 0
B12: Adjustments | E12: 0 | F12: ='PTO Summary (All Employees)'!$C$10*E12 -> 0
B13: PTO earned | E13: =IF(E9="",0,(E10/365)*(TODAY()-E9)) -> 0 | F13: ='PTO Summary (All Employees)'!$C$10*E13 -> 0
B14: PTO taken | E14: =SUM(E3:E8)*-1 -> 0 | F14: ='PTO Summary (All Employees)'!$C$10*E14 -> 0
B15: Balance remaining | E15: =SUM(E11:E14) -> 0 | F15: ='PTO Summary (All Employees)'!$C$10*E15 -> 0
B16: Here is an example PTO sheet template. Duplicate this sheet for each employee. Then fill out the shaded blue cells.
B17: Get Bindle - https://www.bindle.io

Sheet LICENSE
B2: This “PTO Tracker” Spreadsheet by Bindle is licensed under CC BY-SA 4.0
B3: The above license notice and this permission notice shall be included in all copies or substantial portions of the Spreadsheet.
B4: THE SPREADSHEET IS PROVIDED "AS IS", WITHOUT WARRANTY OF ANY KIND, EXPRESS OR
B5: IMPLIED, INCLUDING BUT NOT LIMITED TO THE WARRANTIES OF MERCHANTABILITY,
B6: FITNESS FOR A PARTICULAR PURPOSE AND NON-INFRINGEMENT. IN NO EVENT SHALL THE
B7: AUTHORS OR COPYRIGHT HOLDERS BE LIABLE FOR ANY CLAIM, DAMAGES OR OTHER
B8: LIABILITY, WHETHER IN AN ACTION OF CONTRACT, TORT OR OTHERWISE, ARISING FROM,
B9: OUT OF OR IN CONNECTION WITH THE SOFTWARE OR THE USE OR OTHER DEALINGS IN
B10: THE SPREADSHEET.
